BEGIN:VCALENDAR
VERSION:2.0
PRODID:-//GR Tours &amp; Brew Bus - ECPv6.11.2//NONSGML v1.0//EN
CALSCALE:GREGORIAN
METHOD:PUBLISH
X-ORIGINAL-URL:https://www.brewbusny.com
X-WR-CALDESC:Events for GR Tours &amp; Brew Bus
REFRESH-INTERVAL;VALUE=DURATION:PT1H
X-Robots-Tag:noindex
X-PUBLISHED-TTL:PT1H
BEGIN:VTIMEZONE
TZID:America/New_York
BEGIN:DAYLIGHT
TZOFFSETFROM:-0500
TZOFFSETTO:-0400
TZNAME:EDT
DTSTART:20260308T070000
END:DAYLIGHT
BEGIN:STANDARD
TZOFFSETFROM:-0400
TZOFFSETTO:-0500
TZNAME:EST
DTSTART:20261101T060000
END:STANDARD
END:VTIMEZONE
BEGIN:VEVENT
DTSTART;VALUE=DATE:20260621
DTEND;VALUE=DATE:20260622
DTSTAMP:20260425T132947
CREATED:20260211T104906Z
LAST-MODIFIED:20260211T104938Z
UID:7023-1782000000-1782086399@www.brewbusny.com
SUMMARY:GR Tours – The Lion King
DESCRIPTION:GR Tours – The Lion King \nTo respect both your time and ours\, we are streamlining our booking process to make it as efficient as possible. We keep all bookings in-house to avoid additional fees and to allow payment by check. \nTo help us do this\, we ask that you carefully review all materials we send (please read them more than once). Moving forward\, we will only respond to purchase requests that include all required information. Our goal is to eliminate the extensive back-and-forth—sometimes up to nine emails—that can occur when booking a single event. \nEvent Details \nShow Time: 1:00 PM\nShow Length: 2 hours and 30 minutes \nDate: Sunday June 21\, 2026- (Father’s Day)\nDeparture: Washingtonville at 11:00 am\n(Departure time may be adjusted based on transportation recommendations\, as I hope to give time to eat before the show.)\nReturn: Approximately 5:15 PM\nDeparture from NYC: Immediately after the show \nTour Includes \n\nOrchestra ticket (must be 5+)\nRound-trip transportation with gratuity\nFull-size coach bus with lavatory\n(Beverages and snacks are permitted on the bus)\n\nPricing & Availability \n\nEarly Bird: $181 per guest (through FEB 11th)\nRegular Price: $192per guest (after Feb 11th)\nTicket sales close February 20th\nTickets are limited and in high demand\nTickets are sold first come\, first served and will not be held\n\nImportant Notes \n\nA minimum number of guests is required for the trip to proceed\nAll sales are final – no refunds\n\nPayment Information \nPayment is required to confirm reservations. We accept: \n\nVenmo\nPayPal (additional fees apply)\nCheck or cash (by mail or in person)\n\nThese are our only accepted payment methods. \nHow to Book \nTo request tickets\, please email info@brewbusny.com with: \n\nThe name of the event\nNumber of guests\nPreferred payment method\n\nPlease include all requested information to keep the process streamlined. \nDo not send payment until availability is confirmed by email.\nPlease do not pass along payment information—guests must contact us directly to request reservations. \nEmail is our preferred method of communication for all events. \nThank you\,\nRR
URL:https://www.brewbusny.com/event/gr-tours-the-lion-king/
LOCATION:Washingtonville NY
ATTACH;FMTTYPE=image/png:https://www.brewbusny.com/wp-content/uploads/2024/02/Screenshot-2024-02-24-at-7.04.01-PM.png
END:VEVENT
BEGIN:VEVENT
DTSTART;TZID=America/New_York:20260629T100000
DTEND;TZID=America/New_York:20260629T163000
DTSTAMP:20260425T132947
CREATED:20260405T131438Z
LAST-MODIFIED:20260405T131438Z
UID:7150-1782727200-1782750600@www.brewbusny.com
SUMMARY:GR Tours: American Girl “Dolly & Me”
DESCRIPTION: In celebration of American Girl’s 40th anniversary\, you are cordially invited to an exclusive and enchanting experience \n\nGR Tours: American Girl “Dolly & Me”\n\nIf you’ve been before\, you already know how magical the Manhattan location is—and if you haven’t\, this is your chance to see it for yourself! A visit to the American Girl Place New York flagship store is truly unforgettable. Step inside and rediscover that childhood wonder\, surrounded by beauty\, imagination\, and fun.\n\n Trip Date: Monday\, June 29\n\n What’s IncludedEnjoy a full day of curated experiences:\nRound-trip transportation via comfortable shuttle bus (with restroom)Guided store tour upon arrivalPersonal private shopper for our group Private Luncheon Experience\nReserved private dining roomDedicated coordinator and serverFun games and a craft for all childrenDelicious multcourse meal including:BeverageCinnamon bunsFirst courseChoice of entréeCake & ice cream Special Goody Bag for Each Child\nActivity bookletStar-shaped sunglasses for their 18” dollDoll nail decalsPink t-shirt for their dollMystery food accessory pack\n After LunchEnjoy leisurely free time to explore and indulge in the store’s most beloved signature experiences:\nDoll Hair SalonGirl Hair SalonEar Piercing (for dolls & girls)Nail Salon (for dolls & girls)Shopping throughout the storeSalon services are optional and purchased separately. Reservation links will be provided after booking confirmation. Reservation links will be provided upon booking confirmation. While time slots are being held for our group\, we strongly recommend booking early\, as availability is limited and fills quickly.\n\n Itinerary\n10:00 AM – Depart Washingtonville\, NY11:15–11:30 AM – Arrival11:30 AM – Store tour & meet your personal shopper12:00–1:15 PM – Private luncheon1:30–3:00 PM – Free time for salon services & shopping3:15 PM – Depart for homePre-ordering is available for guests who would like dolls or gifts ready upon arrival.\n\nPricingPre-sale: $170 per guest (through April 7)Regular price: $180 per guest (after April 7) Limited availability\n\n Important InformationReservations are first come\, first served and cannot be heldA minimum number of guests is required for the trip to run\nAll sales are final (no refunds)\nPayment MethodsPayment is required to secure your reservation. We accept:\nVenmoPayPal (fees apply)Check or cash (mail or in person)\nHow to BookTo request tickets\, please email: info@brewbusny.com with:\nEvent nameNumber of guestsPreferred payment methodPlease do not send payment until availability has been confirmed.\nTo help us keep the booking process smooth and efficient\, kindly include all requested details in your email.\n\nAdditional NotesPlease do not share payment information—each guest must contact us directlyEmail is our preferred method of communication for all eventsWe can’t wait to share this magical day with you! 
URL:https://www.brewbusny.com/event/gr-tours-american-girl-dolly-me/
LOCATION:Washingtonville NY
ATTACH;FMTTYPE=image/jpeg:https://www.brewbusny.com/wp-content/uploads/2026/04/090224-retail-hero-landing-scaled.jpeg
END:VEVENT
END:VCALENDAR