BEGIN:VCALENDAR
VERSION:2.0
PRODID:-//GR Tours &amp; Brew Bus - ECPv6.11.2//NONSGML v1.0//EN
CALSCALE:GREGORIAN
METHOD:PUBLISH
X-WR-CALNAME:GR Tours &amp; Brew Bus
X-ORIGINAL-URL:https://www.brewbusny.com
X-WR-CALDESC:Events for GR Tours &amp; Brew Bus
REFRESH-INTERVAL;VALUE=DURATION:PT1H
X-Robots-Tag:noindex
X-PUBLISHED-TTL:PT1H
BEGIN:VTIMEZONE
TZID:America/New_York
BEGIN:DAYLIGHT
TZOFFSETFROM:-0500
TZOFFSETTO:-0400
TZNAME:EDT
DTSTART:20190310T070000
END:DAYLIGHT
BEGIN:STANDARD
TZOFFSETFROM:-0400
TZOFFSETTO:-0500
TZNAME:EST
DTSTART:20191103T060000
END:STANDARD
BEGIN:DAYLIGHT
TZOFFSETFROM:-0500
TZOFFSETTO:-0400
TZNAME:EDT
DTSTART:20200308T070000
END:DAYLIGHT
BEGIN:STANDARD
TZOFFSETFROM:-0400
TZOFFSETTO:-0500
TZNAME:EST
DTSTART:20201101T060000
END:STANDARD
END:VTIMEZONE
BEGIN:VEVENT
DTSTART;VALUE=DATE:20200426
DTEND;VALUE=DATE:20200427
DTSTAMP:20260425T231824
CREATED:20191227T130834Z
LAST-MODIFIED:20200315T123921Z
UID:612-1587859200-1587945599@www.brewbusny.com
SUMMARY:TAP-NY - Canceled
DESCRIPTION:TAP New York Craft Beer & Food Festival\nThe Brew Bus is putting together a 55 passenger for TAP New York 2020 offering of transportation from Cornwall (Decicco’s)\, Washingtonville (Stop & Shop) & Chester (Behind Chester Diner) for Sunday April 26th to the festival at Hunter Mountain.\nTicket price will be $110 online ($105 check/cash) this includes the festival pass (see all that is offered bellow)\, transportation with a lavatory & breakfast on the go…\nDeparture between 9:30-10:10 Sunday morning (depending on pickup) back around 5:30-6.\nTAP® New York\, the largest and longest-running craft beer festival in New York State\, is set for April 25-26\, 2020! Enjoy tasting beers from over 130 NYS breweries\, pouring well over 400 NYS craft beers. Combine that with all-you-can-eat food\, music\, and the beautiful surroundings of the Northern Catskill Mountains (ALL included in the ticket price)\, and you have yourself one of the most unique festivals in the country.\nSunday\, April 26th: 12 PM – 4 PM\nTickets are on a first come basis & will not be held\, payment is required to confirm reservations. Cash/check only. Please reach out with any questions.\nGreat way to spend a Sunday afternoon friends\, Cheers..🍻\nRR\nhttps://www.tap-ny.com
URL:https://www.brewbusny.com/event/tap-ny/
LOCATION:Hunter Mountain\, 64 Klein Avenue\, Hunter\, NY\, 12442\, United States
END:VEVENT
BEGIN:VEVENT
DTSTART;TZID=America/New_York:20200425T110000
DTEND;TZID=America/New_York:20200425T170000
DTSTAMP:20260425T231824
CREATED:20190928T115905Z
LAST-MODIFIED:20200305T233822Z
UID:395-1587812400-1587834000@www.brewbusny.com
SUMMARY:Best Of Warwick Tour
DESCRIPTION:Join us for a tour of great wineries and cider venues in the Warwick NY. \nThe tour leaves out of Salisbury Mills/Cornwall Train Station at 11:00 AM (returning around 5:00). \nThis day includes a lunch and beverage at Christopher’s Bistro\, \nthen on to touring/tasting at \nApplewood Winery\, \nWarwick Valley Winery\, \n& Pennings Cidery. \n  \n$150 a guest includes \nLunch \nDoor to door service from Salisbury Mills/Cornwall Train Station \nYour tour guide for the day \nCold water and light snacks \nTastings at each location \nCider donut \nA luxury passenger vehicle and driver \nFor out of town guests overnight lodging at Caldwell House is suggested \n\nAll tours are rain or shine\nAll tours need a minimum of guests to proceed.\nAll tours are subject to change due to venue availability\nTickets can be ordered through the mail\, based availability\nAll sales are final\, refunds are only given if tour does not proceed\nChecks payable to The Brew Bus\n\n32 Moore Lane Suite 28\, Washingtonville NY 10992 \nPlease include your name\, number\, email (for receipt)\, \ntour request and number of tickets you are purchasing. \nFor mail pushed ticket requests and all questions contact us at info@brewbusny.com
URL:https://www.brewbusny.com/event/best-of-warwick-tour/
LOCATION:Salisbury Mills/Cornwall Train Station\, 1600 State Highway 94\, New Windsor\, NY\, 12553
END:VEVENT
BEGIN:VEVENT
DTSTART;TZID=America/New_York:20200322T080000
DTEND;TZID=America/New_York:20200322T170000
DTSTAMP:20260425T231824
CREATED:20200125T124106Z
LAST-MODIFIED:20200218T140440Z
UID:739-1584864000-1584896400@www.brewbusny.com
SUMMARY:GR Tours Macy’s 2020 Flower Show Tour and Luncheon
DESCRIPTION:Macy’s 2020 Flower Show Tour and Luncheon \nSunday March 22nd\, 2020 \nJoin us for a day in NYC filled with beauty\, history\, and culture at the Macy’s flower show “Voyage to Oceanum”. \nThe Macy’s flower show is a vivid and eye-catching event which has a very beautiful beginning. \nThis event creates an unprecedented environment with its beautiful landscapes that are inspired by decorative creativity. This event has its magic spreading fragrance everywhere which pulls people towards itself and leaves a positive impression on their minds and souls. \nThe tour leaves out of Salisbury Mills at 7:30am March 22nd returning around 5pm \nThis day includes an exclusive before store hours tour of the the Macy’s 2020 flower show on opening day. This year’s inspiration is Indian culture with the “Painted Garden”. \nWe will also have a history tour about Macy’s herald square and how it all started. \nLunch will be at 11:30 at Stella 34 Trattoria!  A quality Italian restaurant in NYC with Empire State Building views\, on the 6th floor of Macy’s.  \nMenu-Appetizer \nCesare- escarole\, croutons\, parmigiano-reggiano dressing\, marinated white anchovy  \nChoice of entree’\nPollo al Girarrosto- rotisserie roasted chicken\, baby eggplant caponata\, ricotta zabaglione\, lemon-fresno vinaigrette  \nLasagna- bolognese\, wagyu beef ragù\, béchamel\, fontina\, stracchino\, pecorino\, parmigiano \n& Dessert\nDelizia Ai Limone- lemon genovese\, cornmeal pastafrolla\, toasted meringue\, lemon curd gelato  \nThis is a private event exclusively for GR Tours\, that accommodates 50 guests. \nThis will only be offered for a limited time\, don’t wait! \nDoor to door service from Station Rd Square Salisbury Mills NY \nYour guides for the day \nCold water and light snacks \nA luxury passenger vehicle and driver \nTwo Private tours of the flower show & Macy’s \nLunch at Stella 34 Trattoria \n$120 a guest  \n*This will sell out quickly \n*For out of town guests overnight lodging at Caldwell House Bed and Breakfast is suggested \n*All tours are rain or shine \n*There is a no refund or rescheduling policy. \n*All All tours need a minimum of guests to proceed.  \n*All tours are subject to change due to venue availability.  \n*tickets can be ordered  on line or through the mail\,  \n     checks payable to The Brew Bus \n     32 Moore Lane Suite 28\, Washingtonville NY 10992 \n     Please include your name\, number\, email (for receipt)\, \n     tour request and number of tickets you purchasing \n*Paypal ticketing available with an additional fee \nFor inquiries email: info@brewbusny.com
URL:https://www.brewbusny.com/event/gr-tours-macys-2020-flower-show-tour-and-luncheon/
LOCATION:Macy’s Herold Square\, 34 Street NYC\, NY\, United States
ORGANIZER;CN="GR Tours":MAILTO:info@brewbusny.com
END:VEVENT
BEGIN:VEVENT
DTSTART;TZID=America/New_York:20200307T110000
DTEND;TZID=America/New_York:20200307T173000
DTSTAMP:20260425T231824
CREATED:20190928T114925Z
LAST-MODIFIED:20200302T110339Z
UID:388-1583578800-1583602200@www.brewbusny.com
SUMMARY:The  Industrial Beer Tour
DESCRIPTION:Join us for a tour of some great industrial venues producing delicious craft beer! \nThe tour leaves out of Beacon Train Station at 11:00 AM (returning around 5:30). \nThis day includes a lunch and a beverage at Painter’s Tavern\, \nthen on to touring/tasting at \nIndustrial Arts Brewing- Beacon\, \nNewburgh Brewing\, \n& Sloop Brewing – The Factory. \n  \n$140 a guest includes \nLunch \nDoor to door service from Beacon Train Station \nYour tour guide for the day \nCold water and light snacks \nTastings at each location \nA luxury passenger vehicle and driver \n\nAll tours are rain or shine\nAll tours need a minimum of guests to proceed\nAll tours are subject to change due to venue availability\nTickets can be ordered through the mail\, based availability\nAll sales are final\, refunds are only given if tour does not proceed.\nChecks payable to The Brew Bus\n\n32 Moore Lane Suite 28\, Washingtonville NY 10992 \nPlease include your name\, number\, email (for receipt)\, \ntour request and number of tickets you are purchasing. \nFor mail pushed ticket requests and all questions contact us at info@brewbusny.com
URL:https://www.brewbusny.com/event/the-beer-tour/
LOCATION:Beacon Train Station\, 1 Ferry St\,\, Beacon\, 12508\, United States
END:VEVENT
BEGIN:VEVENT
DTSTART;TZID=America/New_York:20200215T110000
DTEND;TZID=America/New_York:20200215T173000
DTSTAMP:20260425T231824
CREATED:20190928T113604Z
LAST-MODIFIED:20200207T102957Z
UID:379-1581764400-1581787800@www.brewbusny.com
SUMMARY:Hudson Whiskey River Tour- closed out!
DESCRIPTION:Taste some of the best local distilled spirits in the Hudson Valley! \nThe tour leaves out of Beacon Train Station at 11:00 AM (returning around 5:30). \nThis day includes a lunch and a beverage at Painter’s Tavern\, \nthen on to touring/tasting at \nOrange County Distillery at Brown Barn\, \nGardiner Liquid Mercantile\,  \n& Denning’s Point Distillery. \n  \n$150 a guest includes \nLunch \nDoor to door service from Beacon Train Station \nYour tour guide for the day \nCold water and light snacks \nTastings at each location \nA luxury passenger vehicle and driver \n\nAll tours are rain or shine\nAll tours need a minimum of guests to proceed\nAll tours are subject to change due to venue availability\nTickets can be ordered through the mail\, based availability\nAll sales are final\, refunds are only given if tour does not proceed.\nChecks payable to The Brew Bus\n\n32 Moore Lane Suite 28\, Washingtonville NY 10992 \nPlease include your name\, number\, email (for receipt)\, \ntour request and number of tickets you are purchasing. \nFor mail pushed ticket requests and all questions contact us at info@brewbusny.com
URL:https://www.brewbusny.com/event/hudson-whiskey-river-tour/
LOCATION:Beacon Train Station\, 1 Ferry St\,\, Beacon\, 12508\, United States
END:VEVENT
BEGIN:VEVENT
DTSTART;TZID=America/New_York:20200125T110000
DTEND;TZID=America/New_York:20200125T170000
DTSTAMP:20260425T231824
CREATED:20190928T110416Z
LAST-MODIFIED:20190928T120137Z
UID:369-1579950000-1579971600@www.brewbusny.com
SUMMARY:Winter Wine Tour
DESCRIPTION:Join us for a tour of great wineries in the Hudson Valley. \nThe tour leaves out of Salisbury Mills/Cornwall Train Station at 11:00 AM (returning around 5:00). \nThis day includes a lunch and a beverage at Christopher’s Bistro\, \nthen on to touring/tasting at \nWarwick Valley Winery\, \nBrotherhood Winery\, \n& Palaia Winery. \n  \n$145 a guest includes \nLunch \nDoor to door service from Salisbury Mills/Cornwall Train Station \nYour tour guide for the day \nCold water and light snacks \nTastings at each location \nA luxury passenger vehicle and driver \nFor out of town guests overnight lodging at Caldwell House is suggested \n\nAll tours are rain or shine\nAll tours need a minimum of guests to proceed\nAll tours are subject to change due to venue availability\nTickets can be ordered through the mail\, based availability\nAll sales are final\, refunds are only given if tour does not proceed\nChecks payable to The Brew Bus\n\n32 Moore Lane Suite 28\, Washingtonville NY 10992 \nPlease include your name\, number\, email (for receipt)\, \ntour request and number of tickets you are purchasing. \nFor mail pushed ticket requests and all questions contact us at info@brewbusny.com
URL:https://www.brewbusny.com/event/winter-wine-tour/
LOCATION:Salisbury Mills/Cornwall Train Station\, 1600 State Highway 94\, New Windsor\, NY\, 12553
END:VEVENT
BEGIN:VEVENT
DTSTART;TZID=America/New_York:20191222T081500
DTEND;TZID=America/New_York:20191222T163000
DTSTAMP:20260425T231824
CREATED:20191017T161729Z
LAST-MODIFIED:20191216T172306Z
UID:454-1577002500-1577032200@www.brewbusny.com
SUMMARY:GR Tours The Radio City Music Hall Christmas Spectacular Holiday Tour
DESCRIPTION:Join us Sunday Dec 22nd for \nGR Tours The Radio City Music Hall Christmas Spectacular Holiday Tour \nTrip includes transportation from Salisbury Mills Station Square Plaza at 8:15 am. \nThe Radio City Music Hall Christmas Spectacular 10:30 am showing. \nVoucher for Popcorn and a Soda at the show \nTime to sight see the city all dressed in her best for the holidays! \nStop by Rockefeller Center and view the tree\, take a stroll by the beautiful shop window displays\, or go in to St. Patricks till 3pm when we depart for home. \n  \nTour includes \n* Show Ticket \n* Transportation \n* Popcorn & Soda at the show \n*Time for Sightseeing \nTickets are limited. \nNo Refunds \n$135 a guest Adult/child \nOnline \n$130 check/cash payment \n(minimum number of guests needed for trip to proceed) \nPrice being the main concern\, I looked at weekend dates and the holiday week options. The preference for most people was a weekend date. If you have gone before you know how tickets run\, and parking can cost as much as seeing the show!  I put this together to offer an affordable fun day out\, with out the stress of driving yourself in to the city. It includes a snack at the show\, free time to see the tree and the city dressed in her best\, transportation and of course the fabulous Radio City Music Hall Christmas Spectacular featuring the Rockettes!.  \nThe tickets and snack are discounted to lowest cost based on us booking as a group.  \nWe would be in 3rd mezzanine group seating. \nAll guests would be responsible for getting back to drop off point for pick-up by 3:00 \nWe will not be able to wait for you\, as traffic does not allow bus standing other then drop-off/pick-up.  \nSuggested eateries: \n\nBill’s Bar & Burger– Typical American fare around the corner from Radio City\nCarmine’s-Family style Italian located a short walk from Radio City (about 10-15 minutes to location in Times Square)\nTony’s Di Napoli-Family style Italian that is also located a short walk from Radio City\nEllen’s Stardust Diner-Diner located down the block from Radio City where the wait staff sings (this is very touristy\, but people do like the experience!)\n\n 
URL:https://www.brewbusny.com/event/gr-tours-the-radio-city-music-hall-christmas-spectacular-holiday-tour/
LOCATION:Sation Rd. Square\, 2130 State Route 94\, Salisbury Mills\, NY\, Salisbury Mills\, NY\, 12577\, United States
END:VEVENT
BEGIN:VEVENT
DTSTART;TZID=America/New_York:20191221T110000
DTEND;TZID=America/New_York:20191221T170000
DTSTAMP:20260425T231824
CREATED:20190928T104414Z
LAST-MODIFIED:20191216T172422Z
UID:362-1576926000-1576947600@www.brewbusny.com
SUMMARY:Claus's Orange County Christmas Craft Beer Tour
DESCRIPTION:Join us for a tour of great craft beer venues in Orange County! \nThe tour leaves out of Salisbury Mills/Cornwall Train Station at 11:00 AM (returning around 5:00). \nThis day includes a lunch and a beverage at Painter’s Tavern\, \nthen on to touring/tasting at \nClemson Brewing\, \nThe Brewery at Orange County Hops\, \n& Newburgh Brewing Company. \n  \n$145 a guest includes \nLunch \nDoor to door service from Salisbury Mills/Cornwall Train Station \nYour tour guide for the day \nCold water and light snacks \nTastings at each location \nA luxury passenger vehicle and driver \nFor out of town guests overnight lodging at Caldwell House is suggested \n\nAll tours are rain or shine\nAll tours need a minimum of guests to proceed\nAll tours are subject to change due to venue availability\nTickets can be ordered through the mail\, based availability\nAll sales are final\, refunds are only given if tour does not proceed\nChecks payable to The Brew Bus\n\n32 Moore Lane Suite 28\, Washingtonville NY 10992 \nPlease include your name\, number\, email (for receipt)\, \ntour request and number of tickets you are purchasing. \nFor mail pushed ticket requests and all questions contact us at info@brewbusny.com
URL:https://www.brewbusny.com/event/orange-county-christmas-craft-beer-tour/
LOCATION:Salisbury Mills/Cornwall Train Station\, 1600 State Highway 94\, New Windsor\, NY\, 12553
END:VEVENT
BEGIN:VEVENT
DTSTART;TZID=America/New_York:20191218T080000
DTEND;TZID=America/New_York:20200102T170000
DTSTAMP:20260425T231824
CREATED:20191218T132928Z
LAST-MODIFIED:20191230T122944Z
UID:577-1576656000-1577984400@www.brewbusny.com
SUMMARY:$100 Gift Card
DESCRIPTION:Need a quick holiday gift? \nPurchase an online Brew Bus gift card! \nThey are good for any public or private event on The Brew Bus & GR Tours. \nGift cards value $100 ($5 processing fee) and have an immediate printable invoice\, they will be mailed out within 24 hours after purchase. \nPlease include address for mailing. \nCheers!
URL:https://www.brewbusny.com/event/100-gift-card/
LOCATION:Anywhere
END:VEVENT
BEGIN:VEVENT
DTSTART;VALUE=DATE:20191202
DTEND;VALUE=DATE:20191203
DTSTAMP:20260425T231824
CREATED:20191202T050108Z
LAST-MODIFIED:20191201T193309Z
UID:523-1575244800-1575331199@www.brewbusny.com
SUMMARY:Cyber Monday Special!
DESCRIPTION:Purchase a $100 gift card for $90! \nPurchase online and have sent to yourself or a loved one! \n(include address and special instructions in the purchase).
URL:https://www.brewbusny.com/event/black-friday-special/
END:VEVENT
BEGIN:VEVENT
DTSTART;TZID=America/New_York:20191130T113000
DTEND;TZID=America/New_York:20191130T173000
DTSTAMP:20260425T231824
CREATED:20190927T192348Z
LAST-MODIFIED:20191201T192642Z
UID:348-1575113400-1575135000@www.brewbusny.com
SUMMARY:The Orange County Tour-Closed Out
DESCRIPTION:Taste some of the best beer\, wine and cider Orange County has to offer! \nThe tour leaves out of Beacon Train Station at 11:00 AM (returning around 5:30). \nThis day includes a lunch and a beverage at Painter’s Tavern\, \nthen on to touring/tasting at \nBrotherhood Winery\, \nNewburgh Brewing\, \n& Angry Orchard.  \n  \n$145 a guest includes \nLunch \nDoor to door service from Beacon Train Station \nYour tour guide for the day \nCold water and light snacks \nTastings at each location \nA luxury passenger vehicle and driver \n\nAll tours are rain or shine\nAll tours need a minimum of guests to proceed\nAll tours are subject to change due to venue availability\nTickets can be ordered through the mail\, based availability\nAll sales are final\, refunds are only given if tour does not proceed.\nChecks payable to The Brew Bus\n\n32 Moore Lane Suite 28\, Washingtonville NY 10992 \nPlease include your name\, number\, email (for receipt)\, \ntour request and number of tickets you are purchasing. \nFor mail pushed ticket requests and all questions contact us at info@brewbusny.com
URL:https://www.brewbusny.com/event/the-orange-county-tour/
LOCATION:Beacon Train Station\, 1 Ferry St\,\, Beacon\, 12508\, United States
END:VEVENT
BEGIN:VEVENT
DTSTART;TZID=America/New_York:20191026T093000
DTEND;TZID=America/New_York:20191026T160000
DTSTAMP:20260425T231824
CREATED:20191006T215330Z
LAST-MODIFIED:20191013T105706Z
UID:441-1572082200-1572105600@www.brewbusny.com
SUMMARY:Hard Apple Cider & Donut Tour- CLOSED OUT
DESCRIPTION:Join us for the our seasonal special tour of great hard cider venues and donuts on OCT. 26th in the Hudson Valley. \nThe tour leaves out of Beacon Train Station at 9:30 AM (returning around 4:00). \nPossible Salisbury Mills pick up (based on need) \nThis day includes brunch and a glass of sparkling at Painter’s Tavern\, \nthen on to touring/tasting at \nWeed’s Orchards & Winery \nAngry Orchard \n& Orchard Hill Cider Mill \n  \n$130 a guest includes \nBrunch \nDoor to door service from Beacon Train Station \nYour tour guide for the day \nApple cider donuts \nCold water and light snacks \nTastings at each location \nA luxury passenger vehicle and driver \n\nAll tours are rain or shine\nAll tours need a minimum of guests to proceed this one requires 20!\nAll tours are subject to change due to venue availability\nTickets can be ordered through the mail\, based availability\nAll sales are final\, refunds are only given if tour does not proceed.\nChecks payable to The Brew Bus\n\n32 Moore Lane Suite 28\, Washingtonville NY 10992 \nPlease include your name\, number\, email (for receipt)\, \ntour request and number of tickets you are purchasing. \nFor mail pushed ticket requests and all questions contact us at info@brewbusny.com
URL:https://www.brewbusny.com/event/hard-apple-cider-donut-tour/
LOCATION:Beacon Train Station\, 1 Ferry St\,\, Beacon\, 12508\, United States
END:VEVENT
END:VCALENDAR