BEGIN:VCALENDAR
VERSION:2.0
PRODID:-//GR Tours &amp; Brew Bus - ECPv6.11.2//NONSGML v1.0//EN
CALSCALE:GREGORIAN
METHOD:PUBLISH
X-ORIGINAL-URL:https://www.brewbusny.com
X-WR-CALDESC:Events for GR Tours &amp; Brew Bus
REFRESH-INTERVAL;VALUE=DURATION:PT1H
X-Robots-Tag:noindex
X-PUBLISHED-TTL:PT1H
BEGIN:VTIMEZONE
TZID:America/New_York
BEGIN:DAYLIGHT
TZOFFSETFROM:-0500
TZOFFSETTO:-0400
TZNAME:EDT
DTSTART:20260308T070000
END:DAYLIGHT
BEGIN:STANDARD
TZOFFSETFROM:-0400
TZOFFSETTO:-0500
TZNAME:EST
DTSTART:20261101T060000
END:STANDARD
END:VTIMEZONE
BEGIN:VEVENT
DTSTART;TZID=America/New_York:20260726T150000
DTEND;TZID=America/New_York:20260726T150000
DTSTAMP:20260425T185418
CREATED:20260201T213556Z
LAST-MODIFIED:20260201T213817Z
UID:6994-1785078000-1785078000@www.brewbusny.com
SUMMARY:GR Tours SPAC shuttle to Guns N’ Roses
DESCRIPTION:GR Tours SPAC shuttle to Guns N’ Roses\, Sunday\, July 26th \nTo respect both your time and ours\, we are streamlining our booking process to make it as efficient as possible. We keep all bookings in-house to avoid additional fees and to allow payment by check. \nTo help us do this\, we ask that you carefully review all materials we send (please read them more than once). Moving forward\, we will only respond to purchase requests that include all required information. Our goal is to eliminate the extensive back-and-forth—sometimes up to nine emails—that can occur when booking a single event. \nEvent Details \nGuns N’ Roses\nSaratoga Performing Arts Center (SPAC) \nSPAC is a great venue\, but parking isn’t—and the ride can exceed two hours. A charter bus makes the experience far more comfortable\, especially with a restroom onboard for the ride home. \nShow Time: 6:25 PM\nDate: Sunday\, July 26\, 2026\nDeparture: Washingtonville at 3:00 PM\n(Departure time may be adjusted based on transportation recommendations)\nReturn: Immediately after the show. Please note: if all guests are back on the bus and you are not present within 15 minutes\, the bus will depart. \nIncludes \n\nFull-size coach bus with lavatory\nYou may bring beverages\nYou purchase your own concert ticket\n(everyone has their preferences)\n\nPricing \n\n$81 per guest if booked before April 1\n$92 per guest after April 1\n\nSeats are sold first come\, first served and will not be held. \nPayment Information \nPayment is required to confirm your reservation. We accept: \n\nVenmo\nPayPal (additional fees apply)\nCheck or cash (by mail or in person)\n\nThese are our only accepted payment methods. \nHow to Book \nTo request reservations\, please email info@brewbusny.com with: \n\nName of the event\nNumber of guests\nPreferred payment method\n\nPlease do not send payment until availability is confirmed by email.\nDo not pass along payment information—each guest must contact us directly to request reservations.\nEmail is our preferred method of communication for all events. \nThank you\,\nRR
URL:https://www.brewbusny.com/event/gr-tours-spac-shuttle-to-guns-n-roses/
LOCATION:Washingtonville NY
ATTACH;FMTTYPE=image/jpeg:https://www.brewbusny.com/wp-content/uploads/2026/02/39069d56-9d52-49ac-813d-a43bba964af7_TABLET_LANDSCAPE_LARGE_16_9.jpg
END:VEVENT
END:VCALENDAR