BEGIN:VCALENDAR
VERSION:2.0
PRODID:-//GR Tours &amp; Brew Bus - ECPv6.11.2//NONSGML v1.0//EN
CALSCALE:GREGORIAN
METHOD:PUBLISH
X-WR-CALNAME:GR Tours &amp; Brew Bus
X-ORIGINAL-URL:https://www.brewbusny.com
X-WR-CALDESC:Events for GR Tours &amp; Brew Bus
REFRESH-INTERVAL;VALUE=DURATION:PT1H
X-Robots-Tag:noindex
X-PUBLISHED-TTL:PT1H
BEGIN:VTIMEZONE
TZID:America/New_York
BEGIN:DAYLIGHT
TZOFFSETFROM:-0500
TZOFFSETTO:-0400
TZNAME:EDT
DTSTART:20260308T070000
END:DAYLIGHT
BEGIN:STANDARD
TZOFFSETFROM:-0400
TZOFFSETTO:-0500
TZNAME:EST
DTSTART:20261101T060000
END:STANDARD
END:VTIMEZONE
BEGIN:VEVENT
DTSTART;TZID=America/New_York:20260502T084500
DTEND;TZID=America/New_York:20260502T180000
DTSTAMP:20260425T093838
CREATED:20260220T102719Z
LAST-MODIFIED:20260220T230020Z
UID:7043-1777711500-1777744800@www.brewbusny.com
SUMMARY:GR Tours – Win Big at Wind Creek Bus Trip to Bethlehem
DESCRIPTION:GR Tours – Win Big at Wind Creek Bus Trip to Bethlehem \nTo respect both your time and ours\, we have streamlined our booking process to make it as efficient as possible. All reservations are handled in-house to avoid additional fees and to allow payment by check. \nPlease carefully review all materials we send (we recommend reading them more than once). Moving forward\, we will only respond to purchase requests that include all required information. Our goal is to eliminate unnecessary back-and-forth emails that can delay bookings. \nEvent Details \nBy popular request\, we’re heading to Wind Creek Bethlehem for an exciting casino getaway! \nEnjoy: \n\nOver 3\,000 state-of-the-art slot machines\n200+ table games\nA 26-table poker room\n10 restaurants\n3 bars\nShopping at The Outlets at Wind Creek\n\nLearn more: https://windcreek.com/bethlehem/ \nTrip Information \nDate: Saturday\, May 2\, 2026\nDeparture: Washingtonville at 8:45 AM\n(Departure time may be adjusted based on transportation recommendations to allow time to dine before the show.)\nReturn: Approximately 6:00 PM \nCost: \n\nEarly Bird: $80 per guest (through February 23)\nRegular Price: $90 per guest (after February 23)\n\nMinimum guest count required for trip to proceed.\nAll sales are final. No refunds. \nTour Includes \n\n$30 Slot FREE Play per person\nRound-trip charter transportation\nOnboard restroom\nDriver gratuity included\n\nSeats are limited and expected to sell quickly. \nPayment Information \nPayment is required to confirm reservations. We accept: \n\nVenmo\nPayPal (additional fees apply)\nCheck or cash (by mail or in person)\n\nThese are the only accepted payment methods. \nHow to Book \nTo request tickets\, please email info@brewbusny.com with: \n\nName of the event\nNumber of guests\nPreferred payment method\n\nPlease include all requested information to help us keep the process streamlined. \nDo not send payment until availability has been confirmed by email.\nGuests must contact us directly to request reservations. Please do not pass along payment information on behalf of others. \nEmail is our preferred method of communication for all events. \nThank you\,\nRR
URL:https://www.brewbusny.com/event/gr-tours-win-big-at-wind-creek-bus-trip-to-bethlehem/
LOCATION:Washingtonville NY
ATTACH;FMTTYPE=image/png:https://www.brewbusny.com/wp-content/uploads/2026/02/Screenshot-2026-02-19-at-6.57.58-PM.png
END:VEVENT
BEGIN:VEVENT
DTSTART;TZID=America/New_York:20260503T110000
DTEND;TZID=America/New_York:20260503T174500
DTSTAMP:20260425T093839
CREATED:20260405T125319Z
LAST-MODIFIED:20260405T125843Z
UID:7143-1777806000-1777830300@www.brewbusny.com
SUMMARY:GR Tours – The Book of Mormon
DESCRIPTION:GR Tours – The Book of Mormon\n\nTo respect both your time and ours\, we are streamlining our booking process to make it as efficient as possible. We keep all bookings in-house to avoid additional fees and to allow payment by check.To help us do this\, we ask that you carefully review all materials we send (please read them more than once). Moving forward\, we will only respond to purchase requests that include all required information. Our goal is to eliminate the extensive back-and-forth—sometimes up to nine emails—that can occur when booking a single event.\n\nEvent DetailsShow Time: 2:00 PMShow Length: 2 hours\, 30 minuetsAge: Recommended for ages 12 and up\, with a strict policy that children under 5 are not permitted\nDate: Sunday\, May 3\, 2026Departure: Washingtonville at 11:15am (Departure time may be adjusted based on transportation recommendations\, as I hope to give time to eat before the show.)Return: Approximately 5:45 Departure from NYC: Immediately after the show\n\nTour IncludesOrchestra seatsRound-trip transportation with gratuityFull-size coach bus with lavatory(Beverages and snacks are permitted on the bus)\n\nPricing & AvailabilityEarly Bird: $165 per guest (through April 3rd)Regular Price: $177 per guest (after April 3rd)Ticket sales close April 8thTickets are limited and in high demandTickets are sold first come\, first served and will not be held\n\nImportant NotesA minimum number of guests is required for the trip to proceedAll sales are final – no refunds\nPayment InformationPayment is required to confirm reservations. We accept:VenmoPayPal (additional fees apply)Check or cash (by mail or in person)These are our only accepted payment methods.\n\nHow to BookTo request tickets\, please email info@brewbusny.com with:The name of the eventNumber of guestsPreferred payment methodPlease include all requested information to keep the process streamlined.\nDo not send payment until availability is confirmed by email.\nPlease do not pass along payment information—guests must contact us directly to request reservations.\n\nEmail is our preferred method of communication for all events.
URL:https://www.brewbusny.com/event/gr-tours-the-book-of-mormon/
LOCATION:Washingtonville NY
ATTACH;FMTTYPE=image/jpeg:https://www.brewbusny.com/wp-content/uploads/2026/04/BOM_Tour-6x4_01_ALT-LoRes.jpg
END:VEVENT
BEGIN:VEVENT
DTSTART;TZID=America/New_York:20260508T100000
DTEND;TZID=America/New_York:20260508T170000
DTSTAMP:20260425T093839
CREATED:20260405T130621Z
LAST-MODIFIED:20260405T130621Z
UID:7147-1778234400-1778259600@www.brewbusny.com
SUMMARY:Macy’s Flower Show & Afternoon Tea
DESCRIPTION:GR Tours 2nd Annual Macy’s Flower Show & Afternoon Tea May 8th\n\nJoin us for a delightful spring day in New York City!\nExperience the beauty of the 51st Annual Macy’s Flower Show\, followed by afternoon tea in the charming West Village.\n\n This year’s Macy’s theme\, “Homegrown: America’s 250th Anniversary Celebration\,” features immersive floral displays\, creative garden landscapes\, white picket fences\, and stunning stained glass-inspired designs.\nAfter enjoying the exhibits and some time to shop\, we’ll head to the West Village for a recommended afternoon tea at Little Hen\, a whimsical\, English-inspired boutique known for its soft pastel décor\, intimate atmosphere and afternoon tea. \n\nItinerary10:00 AM – Departure from Washingtonville11:30 AM – 1:30 PM – Macy’s Flower Show & free time2:00 PM – Afternoon Tea at Little Hen3:30 PM (approx.) – Depart NYC5:00 PM (approx.) – Return home\n\nTrip DetailsTransportation via small shuttle bus (no restroom onboard)Limited seating due to venue capacityMinimum number of guests required to run the tripAll sales are final – no refunds\n\nPricingEarly Bird: $199 per guest (through March 28)Regular Price: $209 per guest (after March 28)Spots are limited and sold on a first come\, first served basis. Tickets will not be held.\n\nBooking ProcessTo respect everyone’s time and keep things efficient\, we are streamlining our reservation process. All bookings are handled in-house to avoid additional fees and to allow payment by check.\nTo request tickets\, email: info@brewbusny.com\nPlease include:Event nameNumber of guestsPreferred payment methodIncomplete requests may not receive a response.Please review all materials carefully before reaching out.\n\nImportant:Do not send payment until availability is confirmedDo not share payment details—each guest must contact us directlyEmail is our preferred method of communication\nPayment OptionsVenmoPayPal (fees apply)Check or cash (by mail or in person)\nWe look forward to sharing this beautiful day with you!
URL:https://www.brewbusny.com/event/macys-flower-show-afternoon-tea/
LOCATION:Washingtonville NY
ATTACH;FMTTYPE=image/jpeg:https://www.brewbusny.com/wp-content/uploads/2026/04/macys-flower-show-ny_wide.jpg
END:VEVENT
BEGIN:VEVENT
DTSTART;VALUE=DATE:20260516
DTEND;VALUE=DATE:20260517
DTSTAMP:20260425T093839
CREATED:20260211T104159Z
LAST-MODIFIED:20260211T104159Z
UID:7018-1778889600-1778975999@www.brewbusny.com
SUMMARY:TAP NY 2026 with THE BREW BUS!
DESCRIPTION:TAP NY 2026 with THE BREW BUS! \nTo respect both your time and ours\, we’ve streamlined our booking process to make reservations as efficient as possible. All bookings are handled in-house\, which helps us avoid additional fees and allows us to accept payment by check. \nTo ensure a smooth experience\, please review all materials we send carefully (we recommend reading them more than once). Moving forward\, we will only respond to purchase requests that include all required information. This helps eliminate the excessive back-and-forth—sometimes up to nine emails—that can occur when booking a single event. \nEvent Details \nTAP New York Craft Brew Festival\n Blackthorne Resort – East Durham\, NY \nEnjoy continuous 5 oz. samples of craft alcoholic beverages\, plus unlimited food samples—including corn dogs! Hosting over 50+ craft brewers (150+ brew options)\, including craft beer\, cider\, mead\, mixed drinks\, sours\, and more \nWebsite: https://www.tap-ny.com/\nConfirmed Brewers List: https://www.tap-ny.com/brewerlist \nDate: Saturday\, May 16\nFestival Time: 3:00–7:00 PM\nDeparture: Washingtonville at 1:30 PM\n(Departure time may be adjusted based on transportation recommendations)\nReturn: Approximately 8:30 PM \nIncludes \n\nGeneral Admission festival ticket\nRound-trip transportation (gratuity included)\nFull-size coach bus with lavatory\n(Beverages and snacks are permitted on the bus)\n\nPricing & Availability \n\nEarly Bird: $151 per guest (through February 28)\nRegular Price: $162 per guest (after February 28)\n\nTicket sales close March 30.\nTickets are limited\, in high demand\, and sold on a first-come\, first-served basis. Tickets will not be held. \nImportant Notes \n\nA minimum number of guests is required for the trip to proceed\nAll sales are final – no refunds\n\nPayment Information \nPayment is required to confirm reservations. Accepted payment methods include: \n\nVenmo\nPayPal (additional fees apply)\nCheck or cash (by mail or in person)\n\nThese are the only payment methods accepted. \nHow to Book \nTo request tickets\, please email info@brewbusny.com with the following information: \n\nName of the event\nNumber of guests\nPreferred payment method\n\nPlease include all requested details to keep the process streamlined.\nDo not send payment until availability has been confirmed by email.\nPlease do not forward payment information—guests must contact us directly to request reservations. \nEmail is our preferred method of communication for all events. \nThank you\,\nRR
URL:https://www.brewbusny.com/event/tap-ny-2026-with-the-brew-bus/
LOCATION:Washingtonville NY
ATTACH;FMTTYPE=image/png:https://www.brewbusny.com/wp-content/uploads/2026/02/Screenshot-2026-02-11-at-5.38.19-AM.png
END:VEVENT
BEGIN:VEVENT
DTSTART;TZID=America/New_York:20260530T063000
DTEND;TZID=America/New_York:20260530T180000
DTSTAMP:20260425T093839
CREATED:20260313T104253Z
LAST-MODIFIED:20260313T104444Z
UID:7100-1780122600-1780164000@www.brewbusny.com
SUMMARY:TBB & GRT Baseball Hall of Fame Outing!
DESCRIPTION:TBB & GRT Baseball Hall of Fame Outing! \nTo respect both your time and ours\, we are streamlining our booking process to make it as efficient as possible. All bookings are handled in-house to avoid additional fees and to allow payment by check. \nTo help us keep things running smoothly\, we ask that you carefully review all materials we send (please read them more than once). Moving forward\, we will only respond to purchase requests that include all required information. Our goal is to eliminate the extensive back-and-forth—sometimes up to nine emails—that can occur when booking a single event. \nEvent Details \nWe love when two great things come together—like PB & J\, Laverne & Shirley\, and baseball & beer! With that in mind\, we are excited to announce a Brew Bus & GR Tours collaboration. Join us on Saturday\, May 30 for a trip to the Baseball Hall of Fame\, with an optional stop at Brewery Ommegang. \nhttps://baseballhall.org/  & https://www.ommegang.com/ \nThis event is open to all ages. \nDate: Saturday\, May 30\, 2026\nDeparture: Washingtonville at 6:30 AM\n(Departure time may be adjusted based on transportation recommendations) \nArrival at the Baseball Hall of Fame: 9:30 AM\nShuttle to Brewery Ommegang (optional): 12:30 PM – 2:30 PM\nDepart Cooperstown: 3:00 PM\nReturn: Approximately 6:00 PM \nTour Includes \n• Admission to the Baseball Hall of Fame\n• Optional visit to Brewery Ommegang (guests not visiting the brewery are welcome to remain near the museum to shop or dine)\n• Round-trip transportation with gratuity included\n• Full-size coach bus with lavatory\n• Beverages and snacks are permitted on the bus \nPlease note: We must provide an advance headcount for the brewery. \nPricing & Availability \nEarly Bird pricing ends March 20\nRegular pricing begins March 21 \nAdults: $135 Early Bird / $144 Regular\nSeniors: $129 Early Bird / $138 Regular\nKids (7–12): $128 Early Bird / $137 Regular\nKids (6 and under): $103 Early Bird / $112 Regular \nTickets are limited and expected to sell quickly.\nAll tickets are sold on a first-come\, first-served basis and cannot be held. \nImportant Notes \nA minimum number of guests is required for the trip to run\, so please spread the word. \nAll sales are final. No refunds. \nPayment Information \nPayment is required to confirm reservations. We accept: \nVenmo\nPayPal (additional fees apply)\nCheck or cash (by mail or in person) \nThese are our only accepted payment methods. \nHow to Book \nTo request tickets\, please email info@brewbusny.com with the following information: \n• Name of the event\n• Number of guests (include ages for ticket pricing)\n• Whether each guest plans to attend the Brewery Ommegang stop\n• Preferred payment method \nPlease include all requested information in your email to keep the process streamlined. \nDo not send payment until availability has been confirmed by email. \nPlease do not pass along payment instructions—each guest must contact us directly to request reservations. \nEmail is our preferred method of communication for all events. \nThank you\,\nRR
URL:https://www.brewbusny.com/event/tbb-grt-baseball-hall-of-fame-outing/
LOCATION:Washingtonville NY
ATTACH;FMTTYPE=image/png:https://www.brewbusny.com/wp-content/uploads/2026/03/Screenshot-2026-03-09-at-8.44.22-PM.png
END:VEVENT
BEGIN:VEVENT
DTSTART;VALUE=DATE:20260621
DTEND;VALUE=DATE:20260622
DTSTAMP:20260425T093839
CREATED:20260211T104906Z
LAST-MODIFIED:20260211T104938Z
UID:7023-1782000000-1782086399@www.brewbusny.com
SUMMARY:GR Tours – The Lion King
DESCRIPTION:GR Tours – The Lion King \nTo respect both your time and ours\, we are streamlining our booking process to make it as efficient as possible. We keep all bookings in-house to avoid additional fees and to allow payment by check. \nTo help us do this\, we ask that you carefully review all materials we send (please read them more than once). Moving forward\, we will only respond to purchase requests that include all required information. Our goal is to eliminate the extensive back-and-forth—sometimes up to nine emails—that can occur when booking a single event. \nEvent Details \nShow Time: 1:00 PM\nShow Length: 2 hours and 30 minutes \nDate: Sunday June 21\, 2026- (Father’s Day)\nDeparture: Washingtonville at 11:00 am\n(Departure time may be adjusted based on transportation recommendations\, as I hope to give time to eat before the show.)\nReturn: Approximately 5:15 PM\nDeparture from NYC: Immediately after the show \nTour Includes \n\nOrchestra ticket (must be 5+)\nRound-trip transportation with gratuity\nFull-size coach bus with lavatory\n(Beverages and snacks are permitted on the bus)\n\nPricing & Availability \n\nEarly Bird: $181 per guest (through FEB 11th)\nRegular Price: $192per guest (after Feb 11th)\nTicket sales close February 20th\nTickets are limited and in high demand\nTickets are sold first come\, first served and will not be held\n\nImportant Notes \n\nA minimum number of guests is required for the trip to proceed\nAll sales are final – no refunds\n\nPayment Information \nPayment is required to confirm reservations. We accept: \n\nVenmo\nPayPal (additional fees apply)\nCheck or cash (by mail or in person)\n\nThese are our only accepted payment methods. \nHow to Book \nTo request tickets\, please email info@brewbusny.com with: \n\nThe name of the event\nNumber of guests\nPreferred payment method\n\nPlease include all requested information to keep the process streamlined. \nDo not send payment until availability is confirmed by email.\nPlease do not pass along payment information—guests must contact us directly to request reservations. \nEmail is our preferred method of communication for all events. \nThank you\,\nRR
URL:https://www.brewbusny.com/event/gr-tours-the-lion-king/
LOCATION:Washingtonville NY
ATTACH;FMTTYPE=image/png:https://www.brewbusny.com/wp-content/uploads/2024/02/Screenshot-2024-02-24-at-7.04.01-PM.png
END:VEVENT
BEGIN:VEVENT
DTSTART;TZID=America/New_York:20260629T100000
DTEND;TZID=America/New_York:20260629T163000
DTSTAMP:20260425T093839
CREATED:20260405T131438Z
LAST-MODIFIED:20260405T131438Z
UID:7150-1782727200-1782750600@www.brewbusny.com
SUMMARY:GR Tours: American Girl “Dolly & Me”
DESCRIPTION: In celebration of American Girl’s 40th anniversary\, you are cordially invited to an exclusive and enchanting experience \n\nGR Tours: American Girl “Dolly & Me”\n\nIf you’ve been before\, you already know how magical the Manhattan location is—and if you haven’t\, this is your chance to see it for yourself! A visit to the American Girl Place New York flagship store is truly unforgettable. Step inside and rediscover that childhood wonder\, surrounded by beauty\, imagination\, and fun.\n\n Trip Date: Monday\, June 29\n\n What’s IncludedEnjoy a full day of curated experiences:\nRound-trip transportation via comfortable shuttle bus (with restroom)Guided store tour upon arrivalPersonal private shopper for our group Private Luncheon Experience\nReserved private dining roomDedicated coordinator and serverFun games and a craft for all childrenDelicious multcourse meal including:BeverageCinnamon bunsFirst courseChoice of entréeCake & ice cream Special Goody Bag for Each Child\nActivity bookletStar-shaped sunglasses for their 18” dollDoll nail decalsPink t-shirt for their dollMystery food accessory pack\n After LunchEnjoy leisurely free time to explore and indulge in the store’s most beloved signature experiences:\nDoll Hair SalonGirl Hair SalonEar Piercing (for dolls & girls)Nail Salon (for dolls & girls)Shopping throughout the storeSalon services are optional and purchased separately. Reservation links will be provided after booking confirmation. Reservation links will be provided upon booking confirmation. While time slots are being held for our group\, we strongly recommend booking early\, as availability is limited and fills quickly.\n\n Itinerary\n10:00 AM – Depart Washingtonville\, NY11:15–11:30 AM – Arrival11:30 AM – Store tour & meet your personal shopper12:00–1:15 PM – Private luncheon1:30–3:00 PM – Free time for salon services & shopping3:15 PM – Depart for homePre-ordering is available for guests who would like dolls or gifts ready upon arrival.\n\nPricingPre-sale: $170 per guest (through April 7)Regular price: $180 per guest (after April 7) Limited availability\n\n Important InformationReservations are first come\, first served and cannot be heldA minimum number of guests is required for the trip to run\nAll sales are final (no refunds)\nPayment MethodsPayment is required to secure your reservation. We accept:\nVenmoPayPal (fees apply)Check or cash (mail or in person)\nHow to BookTo request tickets\, please email: info@brewbusny.com with:\nEvent nameNumber of guestsPreferred payment methodPlease do not send payment until availability has been confirmed.\nTo help us keep the booking process smooth and efficient\, kindly include all requested details in your email.\n\nAdditional NotesPlease do not share payment information—each guest must contact us directlyEmail is our preferred method of communication for all eventsWe can’t wait to share this magical day with you! 
URL:https://www.brewbusny.com/event/gr-tours-american-girl-dolly-me/
LOCATION:Washingtonville NY
ATTACH;FMTTYPE=image/jpeg:https://www.brewbusny.com/wp-content/uploads/2026/04/090224-retail-hero-landing-scaled.jpeg
END:VEVENT
BEGIN:VEVENT
DTSTART;TZID=America/New_York:20260726T150000
DTEND;TZID=America/New_York:20260726T150000
DTSTAMP:20260425T093839
CREATED:20260201T213556Z
LAST-MODIFIED:20260201T213817Z
UID:6994-1785078000-1785078000@www.brewbusny.com
SUMMARY:GR Tours SPAC shuttle to Guns N’ Roses
DESCRIPTION:GR Tours SPAC shuttle to Guns N’ Roses\, Sunday\, July 26th \nTo respect both your time and ours\, we are streamlining our booking process to make it as efficient as possible. We keep all bookings in-house to avoid additional fees and to allow payment by check. \nTo help us do this\, we ask that you carefully review all materials we send (please read them more than once). Moving forward\, we will only respond to purchase requests that include all required information. Our goal is to eliminate the extensive back-and-forth—sometimes up to nine emails—that can occur when booking a single event. \nEvent Details \nGuns N’ Roses\nSaratoga Performing Arts Center (SPAC) \nSPAC is a great venue\, but parking isn’t—and the ride can exceed two hours. A charter bus makes the experience far more comfortable\, especially with a restroom onboard for the ride home. \nShow Time: 6:25 PM\nDate: Sunday\, July 26\, 2026\nDeparture: Washingtonville at 3:00 PM\n(Departure time may be adjusted based on transportation recommendations)\nReturn: Immediately after the show. Please note: if all guests are back on the bus and you are not present within 15 minutes\, the bus will depart. \nIncludes \n\nFull-size coach bus with lavatory\nYou may bring beverages\nYou purchase your own concert ticket\n(everyone has their preferences)\n\nPricing \n\n$81 per guest if booked before April 1\n$92 per guest after April 1\n\nSeats are sold first come\, first served and will not be held. \nPayment Information \nPayment is required to confirm your reservation. We accept: \n\nVenmo\nPayPal (additional fees apply)\nCheck or cash (by mail or in person)\n\nThese are our only accepted payment methods. \nHow to Book \nTo request reservations\, please email info@brewbusny.com with: \n\nName of the event\nNumber of guests\nPreferred payment method\n\nPlease do not send payment until availability is confirmed by email.\nDo not pass along payment information—each guest must contact us directly to request reservations.\nEmail is our preferred method of communication for all events. \nThank you\,\nRR
URL:https://www.brewbusny.com/event/gr-tours-spac-shuttle-to-guns-n-roses/
LOCATION:Washingtonville NY
ATTACH;FMTTYPE=image/jpeg:https://www.brewbusny.com/wp-content/uploads/2026/02/39069d56-9d52-49ac-813d-a43bba964af7_TABLET_LANDSCAPE_LARGE_16_9.jpg
END:VEVENT
END:VCALENDAR