BEGIN:VCALENDAR
VERSION:2.0
PRODID:-//GR Tours &amp; Brew Bus - ECPv6.11.2//NONSGML v1.0//EN
CALSCALE:GREGORIAN
METHOD:PUBLISH
X-ORIGINAL-URL:https://www.brewbusny.com
X-WR-CALDESC:Events for GR Tours &amp; Brew Bus
REFRESH-INTERVAL;VALUE=DURATION:PT1H
X-Robots-Tag:noindex
X-PUBLISHED-TTL:PT1H
BEGIN:VTIMEZONE
TZID:America/New_York
BEGIN:DAYLIGHT
TZOFFSETFROM:-0500
TZOFFSETTO:-0400
TZNAME:EDT
DTSTART:20260308T070000
END:DAYLIGHT
BEGIN:STANDARD
TZOFFSETFROM:-0400
TZOFFSETTO:-0500
TZNAME:EST
DTSTART:20261101T060000
END:STANDARD
END:VTIMEZONE
BEGIN:VEVENT
DTSTART;TZID=America/New_York:20260420T170000
DTEND;TZID=America/New_York:20260420T170000
DTSTAMP:20260425T122155
CREATED:20260313T103742Z
LAST-MODIFIED:20260313T103816Z
UID:7096-1776704400-1776704400@www.brewbusny.com
SUMMARY:GR Tours Bus to Bruce!
DESCRIPTION:GR Tours Bus to Bruce! \nTo respect both your time and ours\, we are streamlining our booking process to make it as efficient as possible. We keep all bookings in-house to avoid additional fees and to allow payment by check. \nTo help us do this\, we ask that you carefully review all materials we send (please read them more than once). Moving forward\, we will only respond to purchase requests that include all required information. Our goal is to eliminate the extensive back-and-forth—sometimes up to nine emails—that can occur when booking a single event. \nEvent Details \nBruce Springsteen and The E Street Band  Prudential Center April 20\, 2026 \nDriving down to NJ on a weekday\, I realized a charter bus would make the trip much more comfortable—especially having a restroom onboard for the ride home. \nShow Time: 7:30 PM\nDate: Monday April 20\, 2026\nDeparture: Washingtonville at 5:00PM\n(Departure time may be adjusted based on transportation recommendations)\nReturn: Immediately after the show. Please note: if all guests are back on the bus and you are not present within 15 minutes\, the bus will depart. \nIncludes \n\n30 seat coach bus with lavatory\nYou may bring beverages\nYou purchase your own concert ticket\n(everyone has their preferences)\n\nPricing \n\n$70 per guest if booked before April 1\n$75 per guest after April 1\n\nSeats are sold first come\, first served and will not be held. \nPayment Information \nPayment is required to confirm your reservation. We accept: \n\nVenmo\nPayPal (additional fees apply)\nCheck or cash (by mail or in person)\n\nThese are our only accepted payment methods. \nHow to Book \nTo request reservations\, please email info@brewbusny.com with: \n\nName of the event\nNumber of guests\nPreferred payment method\n\nPlease do not send payment until availability is confirmed by email.\nDo not pass along payment information—each guest must contact us directly to request reservations.\nEmail is our preferred method of communication for all events. \nThank you\,\nRR
URL:https://www.brewbusny.com/event/gr-tours-bus-to-bruce/
LOCATION:Washingtonville NY
ATTACH;FMTTYPE=image/jpeg:https://www.brewbusny.com/wp-content/uploads/2026/03/Bruce-Springsteen-land-of-hope-ep-copy.jpg
END:VEVENT
END:VCALENDAR